BEGIN:VCALENDAR
VERSION:2.0
PRODID:-//The Musical Theater Project - ECPv6.15.20//NONSGML v1.0//EN
CALSCALE:GREGORIAN
METHOD:PUBLISH
X-ORIGINAL-URL:https://musicaltheaterproject.org
X-WR-CALDESC:Events for The Musical Theater Project
REFRESH-INTERVAL;VALUE=DURATION:PT1H
X-Robots-Tag:noindex
X-PUBLISHED-TTL:PT1H
BEGIN:VTIMEZONE
TZID:UTC
BEGIN:STANDARD
TZOFFSETFROM:+0000
TZOFFSETTO:+0000
TZNAME:UTC
DTSTART:20240101T000000
END:STANDARD
END:VTIMEZONE
BEGIN:VEVENT
DTSTART;TZID=UTC:20251212T190000
DTEND;TZID=UTC:20251212T210000
DTSTAMP:20260422T124325
CREATED:20250701T202943Z
LAST-MODIFIED:20251024T175135Z
UID:10000728-1765566000-1765573200@musicaltheaterproject.org
SUMMARY:A Christmas Cabaret (Stocker Arts Center)
DESCRIPTION:From beloved Yuletide standards such as “Winter Wonderland\,” “Let It Snow” and “Have Yourself a Merry Little Christmas\,” to forgotten gems like Irving Berlin’s 106-year-old salute to Santa Claus that only The Musical Theater Project could dig up\, every generation will be singing along with this joyous\, warm celebration! Get in the spirit of the season as outstanding vocalists perform tributes to Rudolph\, Frosty and that mean one\, Mr. Grinch. With Founding Artistic Director\, Bill Rudman\, providing engaging and insightful commentary interspersed throughout\, audiences will love this “Sleigh-ride\,” jingling all the way to “White Christmas!” \nPurchase Tickets for December 12 @ 7PM\nPurchase Tickets for December 13 @ 2PM
URL:https://musicaltheaterproject.org/events/a-christmas-cabaret-stocker/2025-12-12/
LOCATION:Stocker Arts Center (at Lorain County Community College)\, 1005 Abbe Rd N.\, Elyria\, OH\, 44035\, United States
CATEGORIES:The Song Is You!
ATTACH;FMTTYPE=image/png:https://musicaltheaterproject.org/wp-content/uploads/2025/07/TMTP_EventCover_ChristmasCab.png
END:VEVENT
BEGIN:VEVENT
DTSTART;TZID=UTC:20251213T140000
DTEND;TZID=UTC:20251213T160000
DTSTAMP:20260422T124325
CREATED:20250701T202943Z
LAST-MODIFIED:20251024T175135Z
UID:10000759-1765634400-1765641600@musicaltheaterproject.org
SUMMARY:A Christmas Cabaret (Stocker Arts Center)
DESCRIPTION:From beloved Yuletide standards such as “Winter Wonderland\,” “Let It Snow” and “Have Yourself a Merry Little Christmas\,” to forgotten gems like Irving Berlin’s 106-year-old salute to Santa Claus that only The Musical Theater Project could dig up\, every generation will be singing along with this joyous\, warm celebration! Get in the spirit of the season as outstanding vocalists perform tributes to Rudolph\, Frosty and that mean one\, Mr. Grinch. With Founding Artistic Director\, Bill Rudman\, providing engaging and insightful commentary interspersed throughout\, audiences will love this “Sleigh-ride\,” jingling all the way to “White Christmas!” \nPurchase Tickets for December 12 @ 7PM\nPurchase Tickets for December 13 @ 2PM
URL:https://musicaltheaterproject.org/events/a-christmas-cabaret-stocker/2025-12-13/
LOCATION:Stocker Arts Center (at Lorain County Community College)\, 1005 Abbe Rd N.\, Elyria\, OH\, 44035\, United States
CATEGORIES:The Song Is You!
ATTACH;FMTTYPE=image/png:https://musicaltheaterproject.org/wp-content/uploads/2025/07/TMTP_EventCover_ChristmasCab.png
END:VEVENT
BEGIN:VEVENT
DTSTART;TZID=UTC:20251215T190000
DTEND;TZID=UTC:20251215T210000
DTSTAMP:20260422T124325
CREATED:20250701T202711Z
LAST-MODIFIED:20251208T150725Z
UID:10000727-1765825200-1765832400@musicaltheaterproject.org
SUMMARY:A Christmas Cabaret (Edwin's) - Sold Out!
DESCRIPTION:This ever-popular cabaret has been delighting audiences since 2005\, and we can’t wait for you to open a bagful of delightful goodies from Santa and TMTP. No carols—but instead classic holiday favorites including “White Christmas”\, “Sleighride”\, “Silver Bells”\, “Have Yourself a Merry Little Christmas” and even the beloved Frosty and Rudolph. \nMeals are NOT included in the price this year. Cocktails and dinner will be available for purchase off the limited Edwins menu between 5:30 PM and 6:30 PM. No more dinner orders will be taken after 6:30 pm. \nThe performance will begin at 7 PM.
URL:https://musicaltheaterproject.org/events/a-christmas-cabaret-edwins/
LOCATION:EDWINS Leadership & Restaurant Institute\, 12383 Cedar Road\, Cleveland Heights\, OH\, 4418\, United States
CATEGORIES:The Song Is You!
ATTACH;FMTTYPE=image/png:https://musicaltheaterproject.org/wp-content/uploads/2025/07/TMTP-Events-Calendar-Image-Template.png
END:VEVENT
END:VCALENDAR