BEGIN:VCALENDAR
VERSION:2.0
PRODID:-//The Musical Theater Project - ECPv6.15.20//NONSGML v1.0//EN
CALSCALE:GREGORIAN
METHOD:PUBLISH
X-WR-CALNAME:The Musical Theater Project
X-ORIGINAL-URL:https://musicaltheaterproject.org
X-WR-CALDESC:Events for The Musical Theater Project
REFRESH-INTERVAL;VALUE=DURATION:PT1H
X-Robots-Tag:noindex
X-PUBLISHED-TTL:PT1H
BEGIN:VTIMEZONE
TZID:UTC
BEGIN:STANDARD
TZOFFSETFROM:+0000
TZOFFSETTO:+0000
TZNAME:UTC
DTSTART:20210101T000000
END:STANDARD
END:VTIMEZONE
BEGIN:VEVENT
DTSTART;TZID=UTC:20221006T080000
DTEND;TZID=UTC:20221006T170000
DTSTAMP:20260422T082913
CREATED:20250807T183104Z
LAST-MODIFIED:20250807T183104Z
UID:10000758-1665043200-1665075600@musicaltheaterproject.org
SUMMARY:Seven Brides for Seven Brothers (1954)
DESCRIPTION:
URL:https://musicaltheaterproject.org/events/seven-brides-for-seven-brothers-1954/
CATEGORIES:Let's Go to the Movies...At Home!
ATTACH;FMTTYPE=image/jpeg:https://musicaltheaterproject.org/wp-content/uploads/2025/08/sevenbrides.jpeg
END:VEVENT
END:VCALENDAR